Package: HEM Version: 1.79.0 Command: /Library/Frameworks/R.framework/Resources/bin/R CMD check --install=check:HEM.install-out.txt --library=/Library/Frameworks/R.framework/Resources/library --no-vignettes --timings HEM_1.79.0.tar.gz StartedAt: 2025-02-19 19:41:51 -0500 (Wed, 19 Feb 2025) EndedAt: 2025-02-19 19:42:05 -0500 (Wed, 19 Feb 2025) EllapsedTime: 14.2 seconds RetCode: 0 Status: WARNINGS CheckDir: HEM.Rcheck Warnings: 1