Package: HELP Version: 1.65.0 Command: E:\biocbuild\bbs-3.21-bioc\R\bin\R.exe CMD INSTALL HELP StartedAt: 2025-02-17 15:24:54 -0500 (Mon, 17 Feb 2025) EndedAt: 2025-02-17 15:25:17 -0500 (Mon, 17 Feb 2025) EllapsedTime: 23.2 seconds RetCode: 0 Status: OK