Package: HELP Version: 1.65.0 Command: E:\biocbuild\bbs-3.21-bioc\R\bin\R.exe CMD check --no-multiarch --install=check:HELP.install-out.txt --library=E:\biocbuild\bbs-3.21-bioc\R\library --no-vignettes --timings HELP_1.65.0.tar.gz StartedAt: 2025-02-18 01:43:23 -0500 (Tue, 18 Feb 2025) EndedAt: 2025-02-18 01:44:08 -0500 (Tue, 18 Feb 2025) EllapsedTime: 45.0 seconds RetCode: 0 Status: OK CheckDir: HELP.Rcheck Warnings: 0