Package: HELP Version: 1.65.0 Command: chmod a+r HELP -R && E:\biocbuild\bbs-3.21-bioc\R\bin\R.exe CMD build --keep-empty-dirs --no-resave-data HELP StartedAt: 2025-02-17 19:05:57 -0500 (Mon, 17 Feb 2025) EndedAt: 2025-02-17 19:06:25 -0500 (Mon, 17 Feb 2025) EllapsedTime: 28.7 seconds RetCode: 0 Status: OK PackageFile: HELP_1.65.0.tar.gz PackageFileSize: 896.4 KiB