Package: HELP Version: 1.65.0 Command: /home/biocbuild/bbs-3.21-bioc/R/bin/R CMD INSTALL HELP StartedAt: 2025-02-17 15:14:04 -0500 (Mon, 17 Feb 2025) EndedAt: 2025-02-17 15:14:08 -0500 (Mon, 17 Feb 2025) EllapsedTime: 4.5 seconds RetCode: 0 Status: OK