Package: HELP Version: 1.65.0 Command: /home/biocbuild/bbs-3.21-bioc/R/bin/R CMD build --keep-empty-dirs --no-resave-data HELP StartedAt: 2025-02-17 17:33:45 -0500 (Mon, 17 Feb 2025) EndedAt: 2025-02-17 17:33:56 -0500 (Mon, 17 Feb 2025) EllapsedTime: 11.0 seconds RetCode: 0 Status: OK PackageFile: HELP_1.65.0.tar.gz PackageFileSize: 998.2 KiB