Package: HELP Version: 1.65.0 Command: /Library/Frameworks/R.framework/Resources/bin/R CMD build --keep-empty-dirs --no-resave-data HELP StartedAt: 2025-02-19 16:58:07 -0500 (Wed, 19 Feb 2025) EndedAt: 2025-02-19 16:58:26 -0500 (Wed, 19 Feb 2025) EllapsedTime: 18.4 seconds RetCode: 0 Status: OK PackageFile: HELP_1.65.0.tar.gz PackageFileSize: 996.4 KiB