Package: HELP Version: 1.65.0 Command: rm -rf HELP.buildbin-libdir && mkdir HELP.buildbin-libdir && /Users/biocbuild/BBS/utils/build-universal.sh HELP_1.65.0.tar.gz /Library/Frameworks/R.framework/Resources/bin/R HELP.buildbin-libdir StartedAt: 2025-02-19 00:28:51 -0500 (Wed, 19 Feb 2025) EndedAt: 2025-02-19 00:29:00 -0500 (Wed, 19 Feb 2025) EllapsedTime: 9.3 seconds RetCode: 0 Status: OK PackageFile: HELP_1.65.0.tgz PackageFileSize: 1.118 MiB