Package: HELP Version: 1.65.0 Command: /Library/Frameworks/R.framework/Resources/bin/R CMD INSTALL HELP StartedAt: 2025-02-19 15:01:25 -0500 (Wed, 19 Feb 2025) EndedAt: 2025-02-19 15:01:28 -0500 (Wed, 19 Feb 2025) EllapsedTime: 2.2 seconds RetCode: 0 Status: OK