Package: HELP Version: 1.65.0 Command: /Library/Frameworks/R.framework/Resources/bin/R CMD check --install=check:HELP.install-out.txt --library=/Library/Frameworks/R.framework/Resources/library --no-vignettes --timings HELP_1.65.0.tar.gz StartedAt: 2025-02-19 19:41:50 -0500 (Wed, 19 Feb 2025) EndedAt: 2025-02-19 19:42:06 -0500 (Wed, 19 Feb 2025) EllapsedTime: 16.2 seconds RetCode: 0 Status: OK CheckDir: HELP.Rcheck Warnings: 0