Package: HDTD Version: 1.41.0 Command: E:\biocbuild\bbs-3.21-bioc\R\bin\R.exe CMD check --no-multiarch --install=check:HDTD.install-out.txt --library=E:\biocbuild\bbs-3.21-bioc\R\library --no-vignettes --timings HDTD_1.41.0.tar.gz StartedAt: 2025-02-20 01:54:57 -0500 (Thu, 20 Feb 2025) EndedAt: 2025-02-20 01:55:45 -0500 (Thu, 20 Feb 2025) EllapsedTime: 48.5 seconds RetCode: 0 Status: OK CheckDir: HDTD.Rcheck Warnings: 0