Package: HDTD Version: 1.41.0 Command: /home/biocbuild/bbs-3.21-bioc/R/bin/R CMD INSTALL HDTD StartedAt: 2025-02-19 15:06:38 -0500 (Wed, 19 Feb 2025) EndedAt: 2025-02-19 15:07:13 -0500 (Wed, 19 Feb 2025) EllapsedTime: 34.7 seconds RetCode: 0 Status: OK