Package: HDTD Version: 1.41.0 Command: /Library/Frameworks/R.framework/Resources/bin/R CMD INSTALL HDTD StartedAt: 2025-02-19 15:04:13 -0500 (Wed, 19 Feb 2025) EndedAt: 2025-02-19 15:04:40 -0500 (Wed, 19 Feb 2025) EllapsedTime: 27.6 seconds RetCode: 0 Status: OK