Package: HDTD Version: 1.41.0 Command: /Library/Frameworks/R.framework/Resources/bin/R CMD check --install=check:HDTD.install-out.txt --library=/Library/Frameworks/R.framework/Resources/library --no-vignettes --timings HDTD_1.41.0.tar.gz StartedAt: 2025-02-19 20:56:24 -0500 (Wed, 19 Feb 2025) EndedAt: 2025-02-19 20:57:00 -0500 (Wed, 19 Feb 2025) EllapsedTime: 36.8 seconds RetCode: 0 Status: OK CheckDir: HDTD.Rcheck Warnings: 0