Package: HDTD Version: 1.41.0 Command: rm -rf HDTD.buildbin-libdir && mkdir HDTD.buildbin-libdir && /Users/biocbuild/BBS/utils/build-universal.sh HDTD_1.41.0.tar.gz /Library/Frameworks/R.framework/Resources/bin/R HDTD.buildbin-libdir StartedAt: 2025-02-20 00:35:53 -0500 (Thu, 20 Feb 2025) EndedAt: 2025-02-20 00:36:22 -0500 (Thu, 20 Feb 2025) EllapsedTime: 28.9 seconds RetCode: 0 Status: OK PackageFile: HDTD_1.41.0.tgz PackageFileSize: 318.7 KiB