Package: HDF5Array Version: 1.35.15 Command: E:\biocbuild\bbs-3.21-bioc\R\bin\R.exe CMD check --no-multiarch --install=check:HDF5Array.install-out.txt --library=E:\biocbuild\bbs-3.21-bioc\R\library --no-vignettes --timings HDF5Array_1.35.15.tar.gz StartedAt: 2025-02-20 01:54:55 -0500 (Thu, 20 Feb 2025) EndedAt: 2025-02-20 02:02:22 -0500 (Thu, 20 Feb 2025) EllapsedTime: 446.9 seconds RetCode: 0 Status: OK CheckDir: HDF5Array.Rcheck Warnings: 0