Package: HDF5Array Version: 1.35.15 Command: rm -rf HDF5Array.buildbin-libdir && mkdir HDF5Array.buildbin-libdir && E:\biocbuild\bbs-3.21-bioc\R\bin\R.exe CMD INSTALL --build --library=HDF5Array.buildbin-libdir HDF5Array_1.35.15.tar.gz StartedAt: 2025-02-20 07:57:00 -0500 (Thu, 20 Feb 2025) EndedAt: 2025-02-20 07:58:19 -0500 (Thu, 20 Feb 2025) EllapsedTime: 79.2 seconds RetCode: 0 Status: OK PackageFile: HDF5Array_1.35.15.zip PackageFileSize: 8.583 MiB