Package: HDF5Array Version: 1.35.15 Command: /home/biocbuild/bbs-3.21-bioc/R/bin/R CMD check --install=check:HDF5Array.install-out.txt --library=/home/biocbuild/bbs-3.21-bioc/R/site-library --timings HDF5Array_1.35.15.tar.gz StartedAt: 2025-02-20 22:38:08 -0500 (Thu, 20 Feb 2025) EndedAt: 2025-02-20 22:54:58 -0500 (Thu, 20 Feb 2025) EllapsedTime: 1010.5 seconds RetCode: 0 Status: OK CheckDir: HDF5Array.Rcheck Warnings: 0