Package: HDF5Array Version: 1.35.15 Command: /home/biocbuild/bbs-3.21-bioc/R/bin/R CMD build --keep-empty-dirs --no-resave-data HDF5Array StartedAt: 2025-02-20 17:44:42 -0500 (Thu, 20 Feb 2025) EndedAt: 2025-02-20 17:57:38 -0500 (Thu, 20 Feb 2025) EllapsedTime: 776.0 seconds RetCode: 0 Status: OK PackageFile: HDF5Array_1.35.15.tar.gz PackageFileSize: 7.968 MiB