Package: HDF5Array Version: 1.35.15 Command: /Library/Frameworks/R.framework/Resources/bin/R CMD INSTALL HDF5Array StartedAt: 2025-02-19 15:11:15 -0500 (Wed, 19 Feb 2025) EndedAt: 2025-02-19 15:11:45 -0500 (Wed, 19 Feb 2025) EllapsedTime: 29.7 seconds RetCode: 0 Status: OK