Package: HDF5Array Version: 1.35.15 Command: rm -rf HDF5Array.buildbin-libdir && mkdir HDF5Array.buildbin-libdir && /Users/biocbuild/BBS/utils/build-universal.sh HDF5Array_1.35.15.tar.gz /Library/Frameworks/R.framework/Resources/bin/R HDF5Array.buildbin-libdir StartedAt: 2025-02-20 00:35:53 -0500 (Thu, 20 Feb 2025) EndedAt: 2025-02-20 00:36:27 -0500 (Thu, 20 Feb 2025) EllapsedTime: 33.5 seconds RetCode: 0 Status: OK PackageFile: HDF5Array_1.35.15.tgz PackageFileSize: 8.586 MiB