Package: Gviz Version: 1.51.0 Command: /Library/Frameworks/R.framework/Resources/bin/R CMD INSTALL Gviz StartedAt: 2025-02-19 15:26:05 -0500 (Wed, 19 Feb 2025) EndedAt: 2025-02-19 15:27:29 -0500 (Wed, 19 Feb 2025) EllapsedTime: 83.5 seconds RetCode: 0 Status: OK