Package: Gviz Version: 1.51.0 Command: /Library/Frameworks/R.framework/Resources/bin/R CMD check --install=check:Gviz.install-out.txt --library=/Library/Frameworks/R.framework/Resources/library --no-vignettes --timings Gviz_1.51.0.tar.gz StartedAt: 2025-02-20 19:37:46 -0500 (Thu, 20 Feb 2025) EndedAt: 2025-02-20 19:41:01 -0500 (Thu, 20 Feb 2025) EllapsedTime: 195.4 seconds RetCode: 0 Status: OK CheckDir: Gviz.Rcheck Warnings: 0