Package: Gviz Version: 1.51.0 Command: /Library/Frameworks/R.framework/Resources/bin/R CMD build --keep-empty-dirs --no-resave-data Gviz StartedAt: 2025-02-20 16:34:57 -0500 (Thu, 20 Feb 2025) EndedAt: 2025-02-20 16:36:20 -0500 (Thu, 20 Feb 2025) EllapsedTime: 82.9 seconds RetCode: 0 Status: OK PackageFile: Gviz_1.51.0.tar.gz PackageFileSize: 7.78 MiB