Package: Guitar Version: 2.23.0 Command: /Library/Frameworks/R.framework/Resources/bin/R CMD check --install=check:Guitar.install-out.txt --library=/Library/Frameworks/R.framework/Resources/library --no-vignettes --timings Guitar_2.23.0.tar.gz StartedAt: 2025-02-18 19:39:33 -0500 (Tue, 18 Feb 2025) EndedAt: 2025-02-18 19:41:35 -0500 (Tue, 18 Feb 2025) EllapsedTime: 122.4 seconds RetCode: 0 Status: OK CheckDir: Guitar.Rcheck Warnings: 0