Package: GraphPAC Version: 1.49.0 Command: rm -rf GraphPAC.buildbin-libdir && mkdir GraphPAC.buildbin-libdir && E:\biocbuild\bbs-3.21-bioc\R\bin\R.exe CMD INSTALL --build --library=GraphPAC.buildbin-libdir GraphPAC_1.49.0.tar.gz StartedAt: 2025-02-21 08:14:45 -0500 (Fri, 21 Feb 2025) EndedAt: 2025-02-21 08:15:05 -0500 (Fri, 21 Feb 2025) EllapsedTime: 19.1 seconds RetCode: 0 Status: OK PackageFile: GraphPAC_1.49.0.zip PackageFileSize: 360.9 KiB