Package: GraphPAC Version: 1.49.0 Command: /Library/Frameworks/R.framework/Resources/bin/R CMD build --keep-empty-dirs --no-resave-data GraphPAC StartedAt: 2025-02-19 16:53:58 -0500 (Wed, 19 Feb 2025) EndedAt: 2025-02-19 16:54:21 -0500 (Wed, 19 Feb 2025) EllapsedTime: 22.8 seconds RetCode: 1 Status: ERROR PackageFile: None PackageFileSize: NA