Package: GraphAlignment Version: 1.71.0 Command: E:\biocbuild\bbs-3.21-bioc\R\bin\R.exe CMD INSTALL GraphAlignment StartedAt: 2025-02-20 15:16:40 -0500 (Thu, 20 Feb 2025) EndedAt: 2025-02-20 15:17:08 -0500 (Thu, 20 Feb 2025) EllapsedTime: 28.3 seconds RetCode: 0 Status: OK