Package: GraphAlignment Version: 1.71.0 Command: E:\biocbuild\bbs-3.21-bioc\R\bin\R.exe CMD check --no-multiarch --install=check:GraphAlignment.install-out.txt --library=E:\biocbuild\bbs-3.21-bioc\R\library --no-vignettes --timings GraphAlignment_1.71.0.tar.gz StartedAt: 2025-02-21 02:00:51 -0500 (Fri, 21 Feb 2025) EndedAt: 2025-02-21 02:01:28 -0500 (Fri, 21 Feb 2025) EllapsedTime: 36.8 seconds RetCode: 0 Status: OK CheckDir: GraphAlignment.Rcheck Warnings: 0