Package: GraphAlignment Version: 1.71.0 Command: chmod a+r GraphAlignment -R && E:\biocbuild\bbs-3.21-bioc\R\bin\R.exe CMD build --keep-empty-dirs --no-resave-data GraphAlignment StartedAt: 2025-02-20 19:08:40 -0500 (Thu, 20 Feb 2025) EndedAt: 2025-02-20 19:09:07 -0500 (Thu, 20 Feb 2025) EllapsedTime: 27.0 seconds RetCode: 0 Status: OK PackageFile: GraphAlignment_1.71.0.tar.gz PackageFileSize: 455 KiB