Package: GraphAlignment Version: 1.71.0 Command: /home/biocbuild/bbs-3.21-bioc/R/bin/R CMD build --keep-empty-dirs --no-resave-data GraphAlignment StartedAt: 2025-02-20 17:40:56 -0500 (Thu, 20 Feb 2025) EndedAt: 2025-02-20 17:41:03 -0500 (Thu, 20 Feb 2025) EllapsedTime: 7.0 seconds RetCode: 0 Status: OK PackageFile: GraphAlignment_1.71.0.tar.gz PackageFileSize: 591.7 KiB