Package: GraphAlignment Version: 1.71.0 Command: /Library/Frameworks/R.framework/Resources/bin/R CMD check --install=check:GraphAlignment.install-out.txt --library=/Library/Frameworks/R.framework/Resources/library --no-vignettes --timings GraphAlignment_1.71.0.tar.gz StartedAt: 2025-02-19 20:51:05 -0500 (Wed, 19 Feb 2025) EndedAt: 2025-02-19 20:51:30 -0500 (Wed, 19 Feb 2025) EllapsedTime: 25.2 seconds RetCode: 0 Status: OK CheckDir: GraphAlignment.Rcheck Warnings: 0