Package: GraphAlignment Version: 1.71.0 Command: /Library/Frameworks/R.framework/Resources/bin/R CMD build --keep-empty-dirs --no-resave-data GraphAlignment StartedAt: 2025-02-19 16:53:47 -0500 (Wed, 19 Feb 2025) EndedAt: 2025-02-19 16:54:00 -0500 (Wed, 19 Feb 2025) EllapsedTime: 12.6 seconds RetCode: 0 Status: OK PackageFile: GraphAlignment_1.71.0.tar.gz PackageFileSize: 591.3 KiB