Package: GraphAlignment Version: 1.72.0 Command: /Library/Frameworks/R.framework/Resources/bin/R CMD build --keep-empty-dirs --no-resave-data GraphAlignment StartedAt: 2025-10-14 01:42:34 -0400 (Tue, 14 Oct 2025) EndedAt: 2025-10-14 01:42:47 -0400 (Tue, 14 Oct 2025) EllapsedTime: 13.7 seconds RetCode: 0 Status: OK PackageFile: GraphAlignment_1.72.0.tar.gz PackageFileSize: 592 KiB