Package: GraphAT Version: 1.79.0 Command: chmod a+r GraphAT -R && E:\biocbuild\bbs-3.21-bioc\R\bin\R.exe CMD build --keep-empty-dirs --no-resave-data GraphAT StartedAt: 2025-02-19 19:06:39 -0500 (Wed, 19 Feb 2025) EndedAt: 2025-02-19 19:06:43 -0500 (Wed, 19 Feb 2025) EllapsedTime: 4.0 seconds RetCode: 0 Status: OK PackageFile: GraphAT_1.79.0.tar.gz PackageFileSize: 1.884 MiB