Package: GraphAT Version: 1.79.0 Command: /home/biocbuild/R/R/bin/R CMD build --keep-empty-dirs --no-resave-data GraphAT StartedAt: 2025-01-28 23:22:09 -0000 (Tue, 28 Jan 2025) EndedAt: 2025-01-28 23:22:11 -0000 (Tue, 28 Jan 2025) EllapsedTime: 2.0 seconds RetCode: 0 Status: OK PackageFile: GraphAT_1.79.0.tar.gz PackageFileSize: 1.884 MiB