Package: GrafGen Version: 1.3.0 Command: /Library/Frameworks/R.framework/Resources/bin/R CMD INSTALL GrafGen StartedAt: 2025-02-19 15:42:40 -0500 (Wed, 19 Feb 2025) EndedAt: 2025-02-19 15:43:11 -0500 (Wed, 19 Feb 2025) EllapsedTime: 31.2 seconds RetCode: 0 Status: OK