Package: GrafGen Version: 1.3.0 Command: /Library/Frameworks/R.framework/Resources/bin/R CMD INSTALL GrafGen StartedAt: 2025-02-20 15:28:12 -0500 (Thu, 20 Feb 2025) EndedAt: 2025-02-20 15:28:21 -0500 (Thu, 20 Feb 2025) EllapsedTime: 9.3 seconds RetCode: 0 Status: OK