Package: GrafGen Version: 1.3.0 Command: rm -rf GrafGen.buildbin-libdir && mkdir GrafGen.buildbin-libdir && /Users/biocbuild/BBS/utils/build-universal.sh GrafGen_1.3.0.tar.gz /Library/Frameworks/R.framework/Resources/bin/R GrafGen.buildbin-libdir StartedAt: 2025-02-20 22:21:12 -0500 (Thu, 20 Feb 2025) EndedAt: 2025-02-20 22:21:22 -0500 (Thu, 20 Feb 2025) EllapsedTime: 10.2 seconds RetCode: 0 Status: OK PackageFile: GrafGen_1.3.0.tgz PackageFileSize: 3.213 MiB