Package: GmicR Version: 1.21.0 Command: /home/biocbuild/bbs-3.21-bioc/R/bin/R CMD check --install=check:GmicR.install-out.txt --library=/home/biocbuild/bbs-3.21-bioc/R/site-library --timings GmicR_1.21.0.tar.gz StartedAt: 2025-02-19 22:44:31 -0500 (Wed, 19 Feb 2025) EndedAt: 2025-02-19 23:09:34 -0500 (Wed, 19 Feb 2025) EllapsedTime: 1503.1 seconds RetCode: 0 Status: WARNINGS CheckDir: GmicR.Rcheck Warnings: 1