Package: GmicR Version: 1.21.0 Command: /Library/Frameworks/R.framework/Resources/bin/R CMD INSTALL GmicR StartedAt: 2025-02-20 15:20:50 -0500 (Thu, 20 Feb 2025) EndedAt: 2025-02-20 15:21:00 -0500 (Thu, 20 Feb 2025) EllapsedTime: 10.5 seconds RetCode: 0 Status: OK