Package: GlobalAncova Version: 4.25.0 Command: /Library/Frameworks/R.framework/Resources/bin/R CMD build --keep-empty-dirs --no-resave-data GlobalAncova StartedAt: 2025-02-19 16:51:44 -0500 (Wed, 19 Feb 2025) EndedAt: 2025-02-19 17:00:25 -0500 (Wed, 19 Feb 2025) EllapsedTime: 521.1 seconds RetCode: 0 Status: OK PackageFile: GlobalAncova_4.25.0.tar.gz PackageFileSize: 1.207 MiB