Package: GlobalAncova Version: 4.25.0 Command: rm -rf GlobalAncova.buildbin-libdir && mkdir GlobalAncova.buildbin-libdir && /Users/biocbuild/BBS/utils/build-universal.sh GlobalAncova_4.25.0.tar.gz /Library/Frameworks/R.framework/Resources/bin/R GlobalAncova.buildbin-libdir StartedAt: 2025-02-20 00:34:48 -0500 (Thu, 20 Feb 2025) EndedAt: 2025-02-20 00:35:25 -0500 (Thu, 20 Feb 2025) EllapsedTime: 37.1 seconds RetCode: 0 Status: OK PackageFile: GlobalAncova_4.25.0.tgz PackageFileSize: 1.625 MiB