Package: GloScope Version: 1.5.0 Command: E:\biocbuild\bbs-3.21-bioc\R\bin\R.exe CMD INSTALL GloScope StartedAt: 2025-02-19 15:52:47 -0500 (Wed, 19 Feb 2025) EndedAt: 2025-02-19 15:53:15 -0500 (Wed, 19 Feb 2025) EllapsedTime: 27.8 seconds RetCode: 0 Status: OK