Package: GloScope Version: 1.5.0 Command: /home/biocbuild/bbs-3.21-bioc/R/bin/R CMD INSTALL GloScope StartedAt: 2025-02-19 15:19:45 -0500 (Wed, 19 Feb 2025) EndedAt: 2025-02-19 15:20:08 -0500 (Wed, 19 Feb 2025) EllapsedTime: 23.2 seconds RetCode: 0 Status: OK