Package: GloScope Version: 1.5.0 Command: /home/biocbuild/bbs-3.21-bioc/R/bin/R CMD check --install=check:GloScope.install-out.txt --library=/home/biocbuild/bbs-3.21-bioc/R/site-library --timings GloScope_1.5.0.tar.gz StartedAt: 2025-02-19 22:44:22 -0500 (Wed, 19 Feb 2025) EndedAt: 2025-02-19 22:53:26 -0500 (Wed, 19 Feb 2025) EllapsedTime: 543.7 seconds RetCode: 0 Status: OK CheckDir: GloScope.Rcheck Warnings: 0