Package: GloScope Version: 1.5.0 Command: /Library/Frameworks/R.framework/Resources/bin/R CMD INSTALL GloScope StartedAt: 2025-02-18 15:13:44 -0500 (Tue, 18 Feb 2025) EndedAt: 2025-02-18 15:14:16 -0500 (Tue, 18 Feb 2025) EllapsedTime: 32.0 seconds RetCode: 0 Status: OK