Package: GladiaTOX Version: 1.23.0 Command: E:\biocbuild\bbs-3.21-bioc\R\bin\R.exe CMD INSTALL GladiaTOX StartedAt: 2025-02-19 15:34:34 -0500 (Wed, 19 Feb 2025) EndedAt: 2025-02-19 15:35:16 -0500 (Wed, 19 Feb 2025) EllapsedTime: 42.3 seconds RetCode: 0 Status: OK