Package: GladiaTOX Version: 1.23.0 Command: E:\biocbuild\bbs-3.21-bioc\R\bin\R.exe CMD check --no-multiarch --install=check:GladiaTOX.install-out.txt --library=E:\biocbuild\bbs-3.21-bioc\R\library --no-vignettes --timings GladiaTOX_1.23.0.tar.gz StartedAt: 2025-02-20 01:40:24 -0500 (Thu, 20 Feb 2025) EndedAt: 2025-02-20 01:43:05 -0500 (Thu, 20 Feb 2025) EllapsedTime: 160.6 seconds RetCode: 0 Status: OK CheckDir: GladiaTOX.Rcheck Warnings: 0