Package: GladiaTOX Version: 1.23.0 Command: /home/biocbuild/bbs-3.21-bioc/R/bin/R CMD check --install=check:GladiaTOX.install-out.txt --library=/home/biocbuild/bbs-3.21-bioc/R/site-library --timings GladiaTOX_1.23.0.tar.gz StartedAt: 2025-02-19 22:43:30 -0500 (Wed, 19 Feb 2025) EndedAt: 2025-02-19 22:48:32 -0500 (Wed, 19 Feb 2025) EllapsedTime: 302.4 seconds RetCode: 0 Status: OK CheckDir: GladiaTOX.Rcheck Warnings: 0